BEGIN:VCALENDAR
VERSION:2.0
PRODID:-//DEV SITE - Veebikool - ECPv6.13.2.1//NONSGML v1.0//EN
CALSCALE:GREGORIAN
METHOD:PUBLISH
X-ORIGINAL-URL:http://dev.veebikool.ee
X-WR-CALDESC:Events for DEV SITE - Veebikool
REFRESH-INTERVAL;VALUE=DURATION:PT1H
X-Robots-Tag:noindex
X-PUBLISHED-TTL:PT1H
BEGIN:VTIMEZONE
TZID:Europe/Tallinn
BEGIN:DAYLIGHT
TZOFFSETFROM:+0200
TZOFFSETTO:+0300
TZNAME:EEST
DTSTART:20240331T010000
END:DAYLIGHT
BEGIN:STANDARD
TZOFFSETFROM:+0300
TZOFFSETTO:+0200
TZNAME:EET
DTSTART:20241027T010000
END:STANDARD
BEGIN:DAYLIGHT
TZOFFSETFROM:+0200
TZOFFSETTO:+0300
TZNAME:EEST
DTSTART:20250330T010000
END:DAYLIGHT
BEGIN:STANDARD
TZOFFSETFROM:+0300
TZOFFSETTO:+0200
TZNAME:EET
DTSTART:20251026T010000
END:STANDARD
END:VTIMEZONE
BEGIN:VEVENT
DTSTART;TZID=Europe/Tallinn:20250128T100000
DTEND;TZID=Europe/Tallinn:20250128T102000
DTSTAMP:20260419T200218
CREATED:20250124T013005Z
LAST-MODIFIED:20250124T013229Z
UID:10000355-1738058400-1738059600@dev.veebikool.ee
SUMMARY:?AI õpiamps: KUIDAS TEHA AUTOMATISEERITUD MÜÜGITUNNELIT? Marika Juusu
DESCRIPTION:TUTVU ÕPIAMPSUGA LÄHEMALT
URL:http://dev.veebikool.ee/event/%f0%9f%a4%96ai-opiamps-kuidas-teha-automatiseeritud-muugitunnelit-marika-juusu/
LOCATION:? Facebook live
CATEGORIES:Veebiseminar
ATTACH;FMTTYPE=image/png:http://dev.veebikool.ee/wp-content/uploads/2025/01/Marika-Juusu-1.png
ORGANIZER;CN="Veebikool":MAILTO:info@veebikool.ee
END:VEVENT
BEGIN:VEVENT
DTSTART;TZID=Europe/Tallinn:20250127T093000
DTEND;TZID=Europe/Tallinn:20250127T133000
DTSTAMP:20260419T200218
CREATED:20241124T043026Z
LAST-MODIFIED:20250121T203318Z
UID:10000330-1737970200-1737984600@dev.veebikool.ee
SUMMARY:Koolituspäev:  REKLAAMISTRATEEGIAD KLIENTIDE LEIDMISEKS. Katrin Vilimaa-Otsing
DESCRIPTION:Kas tunned\, et kõik need teadmised turundusest\, brändingust jms on toredad\, aga sa ei tea ikka\, mida ja kunas teha? \nSellel koolituspäeval tutvustame müügitunneleid\, mille abil suunad uued huvilised maksvateks klientideks. \nÕpid\, kuidas kasutada AI abi oma kliendi teekonna kaardistamisel ja loomisel. Kui tahad oma tooteid või teenuseid turule tuua strateegiliselt\, siis tule koolitusele ning loo oma ettevõtte jaoks vajalikud müügitunnelid. \nTUTVU KOOLITUSPÄEVAGA JA OSTA PILET
URL:http://dev.veebikool.ee/event/koolituspaev-reklaamistrateegiad-klientide-leidmiseks/
ATTACH;FMTTYPE=image/png:http://dev.veebikool.ee/wp-content/uploads/2024/11/27.01.24-Marika-Juusu-Katrin-Vilimaa-Otsing-REKLAAM-1-1.png
ORGANIZER;CN="Veebikool":MAILTO:info@veebikool.ee
END:VEVENT
BEGIN:VEVENT
DTSTART;TZID=Europe/Tallinn:20250124T100000
DTEND;TZID=Europe/Tallinn:20250124T103000
DTSTAMP:20260419T200218
CREATED:20250120T083300Z
LAST-MODIFIED:20250121T203131Z
UID:10000349-1737712800-1737714600@dev.veebikool.ee
SUMMARY:?Reedene õpiamps: KUIDAS LUUA TEADLIKULT TUGEVAT BRÄNDI? Evelin Org
DESCRIPTION:TUTVU ÕPIAMPSUGA LÄHEMALT SIIT
URL:http://dev.veebikool.ee/event/%f0%9f%a6%8areedene-opiamps-kuidas-luua-teadlikult-tugevat-brandi-evelin-org/
LOCATION:? Facebook live
CATEGORIES:Veebiseminar
ATTACH;FMTTYPE=image/png:http://dev.veebikool.ee/wp-content/uploads/2025/01/24.01-Evelin-Org.png
ORGANIZER;CN="Veebikool":MAILTO:info@veebikool.ee
END:VEVENT
BEGIN:VEVENT
DTSTART;TZID=Europe/Tallinn:20250114T100000
DTEND;TZID=Europe/Tallinn:20250114T102000
DTSTAMP:20260419T200218
CREATED:20250112T080333Z
LAST-MODIFIED:20250112T080333Z
UID:10000343-1736848800-1736850000@dev.veebikool.ee
SUMMARY:?AI ÕPIAMPS: Kuidas kiirendada kliendisuhtlust Manychat'i abil? Triin Pärn
DESCRIPTION:TUTVU ÕPIAMPSUGA LÄHEMALT SIIT
URL:http://dev.veebikool.ee/event/%f0%9f%a4%96ai-opiamps-kuidas-kiirendada-kliendisuhtlust-manychati-abil-triin-parn/
LOCATION:? Facebook live
CATEGORIES:Veebiseminar
ATTACH;FMTTYPE=image/png:http://dev.veebikool.ee/wp-content/uploads/2025/01/14.01.25-Triinf.png
ORGANIZER;CN="Veebikool":MAILTO:info@veebikool.ee
END:VEVENT
BEGIN:VEVENT
DTSTART;TZID=Europe/Tallinn:20250113T110000
DTEND;TZID=Europe/Tallinn:20250122T170000
DTSTAMP:20260419T200218
CREATED:20250121T204025Z
LAST-MODIFIED:20250121T204026Z
UID:10000341-1736766000-1737565200@dev.veebikool.ee
SUMMARY:?ÕPINÄDAL: Tee endale tasuta uus koduleht
DESCRIPTION:Kodulehe tegemine pole kunagi olnud nii lihtne ja lõbus! \nKui sul on õigeid tööriistu ja toetavad juhendajad\, saad oma veebilehe valmis mõne päevaga – ja kõik see just nüüd! \nAinult 19 € eest saad osaleda✨ – täiesti värsked koolitusvideod\, mis samm-sammult viivad sind läbi tehisintellekti abil kodulehe tegemise! \nTUTVU KODULEHE TEGEMISE ÕPINÄDALAGA
URL:http://dev.veebikool.ee/event/%f0%9f%92%bbuus-kodulehe-tegemise-opinadal-6/
CATEGORIES:Õpinädal
ORGANIZER;CN="Veebikool":MAILTO:info@veebikool.ee
END:VEVENT
BEGIN:VEVENT
DTSTART;TZID=Europe/Tallinn:20250113T093000
DTEND;TZID=Europe/Tallinn:20250113T133000
DTSTAMP:20260419T200218
CREATED:20241124T042628Z
LAST-MODIFIED:20241229T094348Z
UID:10000328-1736760600-1736775000@dev.veebikool.ee
SUMMARY:Koolituspäev: Automaatikad\, mis vabastavad rutiinsest tööst
DESCRIPTION:Kas tunned\, et rutiinsed ülesanded võtavad liiga palju energiat ja unistad automaatsetest lahendusest? \nSellel koolituspäeval tutvustame automaatika võimalusi\, mis töötavad sinust sõltumatult! \nÕpid\, kuidas kasutada AI abi automaatikate ehitamisel ja tööülesannete sooritamisel ning kuidas hoida oma süsteemid lihtsad ja kuluefektiivsed. \nTUTVU KOOLITUSEGA JA OSTA PILET
URL:http://dev.veebikool.ee/event/koolituspaev-automaatikad-mis-vabastavad-rutiinsest-toost/
ATTACH;FMTTYPE=image/png:http://dev.veebikool.ee/wp-content/uploads/2024/11/E13.01.24-Janika-Moru-Kirsike-Kukk-Viiol-REKLAAM-.png
ORGANIZER;CN="Veebikool":MAILTO:info@veebikool.ee
END:VEVENT
BEGIN:VEVENT
DTSTART;TZID=Europe/Tallinn:20250113T080000
DTEND;TZID=Europe/Tallinn:20250113T170000
DTSTAMP:20260419T200218
CREATED:20250104T115650Z
LAST-MODIFIED:20250121T203525Z
UID:10000351-1736755200-1736787600@dev.veebikool.ee
SUMMARY:?ÕPINÄDAL: Tee endale tasuta uus koduleht
DESCRIPTION:Kodulehe tegemine pole kunagi olnud nii lihtne ja lõbus! \nKui sul on õigeid tööriistu ja toetavad juhendajad\, saad oma veebilehe valmis mõne päevaga – ja kõik see just nüüd! \nAinult 19 € eest saad osaleda✨ – täiesti värsked koolitusvideod\, mis samm-sammult viivad sind läbi tehisintellekti abil kodulehe tegemise! \nTUTVU KODULEHE TEGEMISE ÕPINÄDALAGA
URL:http://dev.veebikool.ee/event/%f0%9f%92%bbuus-kodulehe-tegemise-opinadal/
ORGANIZER;CN="Veebikool":MAILTO:info@veebikool.ee
END:VEVENT
BEGIN:VEVENT
DTSTART;TZID=Europe/Tallinn:20250110T100000
DTEND;TZID=Europe/Tallinn:20250110T103000
DTSTAMP:20260419T200218
CREATED:20250109T071212Z
LAST-MODIFIED:20250109T071241Z
UID:10000342-1736503200-1736505000@dev.veebikool.ee
SUMMARY:?REEDENE ÕPIAMPS: Kuidas e-kursuse loomine tegelikult välja näeb? Kirsi Svarts
DESCRIPTION:TUTVU ÕPIAMPSUGA LÄHEMALT SIIT
URL:http://dev.veebikool.ee/event/%f0%9f%a6%8areedene-opiamps-kuidas-e-kursuse-loomine-tegelikult-valja-naeb-kirsi-svarts/
LOCATION:? Facebook live
CATEGORIES:Veebiseminar
ATTACH;FMTTYPE=image/png:http://dev.veebikool.ee/wp-content/uploads/2025/01/10.01-Kirsimari.png
ORGANIZER;CN="Veebikool":MAILTO:info@veebikool.ee
END:VEVENT
BEGIN:VEVENT
DTSTART;TZID=Europe/Tallinn:20250109T110000
DTEND;TZID=Europe/Tallinn:20250109T123000
DTSTAMP:20260419T200218
CREATED:20250104T115308Z
LAST-MODIFIED:20250107T081120Z
UID:10000340-1736420400-1736425800@dev.veebikool.ee
SUMMARY:Tasuta kodulehe tegemise õpinädala infotund
DESCRIPTION:Kodulehe tegemise õpinädalat tutvustav infotund\nKodulehe tegemine pole kunagi olnud nii lihtne ja lõbus! Seda eriti siis\, kui meie kasutada on ka ägedad AI tööriistad!\nTule kuula\, mis meil õpinädalal toimuma hakkab! Uus aasta ja uued tööriistad!\n\nJaanuaris lisanduvad õpinädalale ka täiesti värsked koolitusvideod\, mis tutvustavad tehisintellekti abil kodulehe tegemist!\nInfotunnis:Räägime õpinädala korraldusestTutvustame koolitusmaterjale Näitame\, kuidas saad 1 euroga domeeni ja kolm kuud veebimajutustLoosime välja üllatusauhinna!\n\nOSALE INFOTUNNIS
URL:http://dev.veebikool.ee/event/tasuta-kodulehe-tegemise-opinadala-infotund/
ORGANIZER;CN="Veebikool":MAILTO:info@veebikool.ee
END:VEVENT
BEGIN:VEVENT
DTSTART;TZID=Europe/Tallinn:20250106T093000
DTEND;TZID=Europe/Tallinn:20250106T133000
DTSTAMP:20260419T200218
CREATED:20241124T041835Z
LAST-MODIFIED:20241229T094516Z
UID:10000325-1736155800-1736170200@dev.veebikool.ee
SUMMARY:Koolituspäev: Google tasuta tööriistad ettevõtjale
DESCRIPTION:Kas soovid\, et kõik failid ja tööd salvestuvad automaatselt pilve\, on alati turvaliselt varundatud ja kättesaadavad mis tahes seadmest? \nSellel koolituspäeval keskendume Google Workspace tasuta tööriistadele – postkastist slaidideni ja kuidas neid AI abil veel produktiivsemalt kasutada. \nÕpid\, kuidas Google’i tasuta tööriistad oma ettevõtte heaks täielikult tööle panna\, et tööpäevad muutuksid lühemaks ja mõnusamaks. \nTUTVU KOOLITUSEGA JA OSTA PILET
URL:http://dev.veebikool.ee/event/koolituspaev-ettevotte-finantsid-kontrolli-alla/
ATTACH;FMTTYPE=image/png:http://dev.veebikool.ee/wp-content/uploads/2024/10/6.01.24-Janika-Moru-REKLAAM.png
ORGANIZER;CN="Veebikool":MAILTO:info@veebikool.ee
END:VEVENT
BEGIN:VEVENT
DTSTART;TZID=Europe/Tallinn:20250103T120000
DTEND;TZID=Europe/Tallinn:20250103T140000
DTSTAMP:20260419T200218
CREATED:20241227T182416Z
LAST-MODIFIED:20241227T201946Z
UID:10000338-1735905600-1735912800@dev.veebikool.ee
SUMMARY:TASUTA VEEBISEMINAR: Kuidas tehisintellekti abiga e-kursust luua?
DESCRIPTION:Osale tasuta veebiseminaril\, kus ma näitan sulle\, kuidas luua AI abiga e-kursust. \nKüsid: „Mina ja e-kursus?“ Aga miks mitte! \nMõni kirjutab raamatu\, teine loob muusikapala – miks ei võiks sina luua e-kursust?! \nMuuda oma teadmised tulusaks äriks ja jõua sadade\, miks mitte tuhandete inimesteni üle kogu maailma. \nVeebiseminar toimub reedel\, 3. jaanuaril kell 12.00–14.00 Zoomis. Järelvaadatav. \nNii et mida sa ootad? Kaotada pole midagi. Pane end kirja: http://dev.veebikool.ee/veebiseminar-kursuse-loomine/ 
URL:http://dev.veebikool.ee/event/tasuta-veebiseminar-kuidas-tehisintellekti-abiga-e-kursust-luua/
CATEGORIES:Veebiseminar
ATTACH;FMTTYPE=image/jpeg:http://dev.veebikool.ee/wp-content/uploads/2024/12/E-kursuse-loomise-programm.jpg
ORGANIZER;CN="Veebikool":MAILTO:info@veebikool.ee
END:VEVENT
BEGIN:VEVENT
DTSTART;TZID=Europe/Tallinn:20250103T100000
DTEND;TZID=Europe/Tallinn:20250103T103000
DTSTAMP:20260419T200218
CREATED:20241230T074121Z
LAST-MODIFIED:20241230T074121Z
UID:10000339-1735898400-1735900200@dev.veebikool.ee
SUMMARY:?REEDENE ÕPIAMPS: Kuidas kutsuda esinejaid oma üritusele? Timo Porval
DESCRIPTION:TUTVU ÕPIAMPSUGA LÄHEMAT SIIT.
URL:http://dev.veebikool.ee/event/%f0%9f%a6%8areedene-opiamps-kuidas-kutsuda-esinejaid-oma-uritusele-timo-porval/
LOCATION:? Facebook live
CATEGORIES:Veebiseminar
ATTACH;FMTTYPE=image/png:http://dev.veebikool.ee/wp-content/uploads/2024/12/3.01-Timo-Porval.png
ORGANIZER;CN="Veebikool":MAILTO:info@veebikool.ee
END:VEVENT
BEGIN:VEVENT
DTSTART;TZID=Europe/Tallinn:20241227T100000
DTEND;TZID=Europe/Tallinn:20241227T103000
DTSTAMP:20260419T200218
CREATED:20241222T235951Z
LAST-MODIFIED:20241222T235951Z
UID:10000336-1735293600-1735295400@dev.veebikool.ee
SUMMARY:?REEDENE ÕPIAMPS: Kuidas seada fookust ja muuta unistused reaalseteks eesmärkideks? Marika Juusu
DESCRIPTION: 
URL:http://dev.veebikool.ee/event/%f0%9f%a6%8areedene-opiamps-kuidas-seada-fookust-ja-muuta-unistused-reaalseteks-eesmarkideks-marika-juusu/
LOCATION:? Facebook live
CATEGORIES:Veebiseminar
ATTACH;FMTTYPE=image/png:http://dev.veebikool.ee/wp-content/uploads/2024/12/27.12-Marika-.png
ORGANIZER;CN="Veebikool":MAILTO:info@veebikool.ee
END:VEVENT
BEGIN:VEVENT
DTSTART;TZID=Europe/Tallinn:20241220T100000
DTEND;TZID=Europe/Tallinn:20241220T103000
DTSTAMP:20260419T200218
CREATED:20241217T091620Z
LAST-MODIFIED:20241217T091620Z
UID:10000335-1734688800-1734690600@dev.veebikool.ee
SUMMARY:?REEDENE ÕPIAMPS: Kuidas teha jõulupärga? Kristel Kaljuste
DESCRIPTION:
URL:http://dev.veebikool.ee/event/%f0%9f%a6%8areedene-opiamps-kuidas-teha-jouluparga-kristel-kaljuste/
LOCATION:? Facebook live
CATEGORIES:Veebiseminar
ATTACH;FMTTYPE=image/png:http://dev.veebikool.ee/wp-content/uploads/2024/12/20.12-Kristel.png
ORGANIZER;CN="Veebikool":MAILTO:info@veebikool.ee
END:VEVENT
BEGIN:VEVENT
DTSTART;TZID=Europe/Tallinn:20241216T093000
DTEND;TZID=Europe/Tallinn:20241216T133000
DTSTAMP:20260419T200218
CREATED:20241124T042014Z
LAST-MODIFIED:20241214T185224Z
UID:10000326-1734341400-1734355800@dev.veebikool.ee
SUMMARY:Koolituspäev: Eristu selge brändiga
DESCRIPTION:Tuleb tuttav ette – igat uut kampaaniat alustad oma ettevõtte värve või logo muutes\, sest sa pole siiani kindel\, kas su ettevõtte bränd vastab sinu tegevusele? \nSellel koolituspäeval lood endale selge brändi positsiooni\, mille abil hoida kokku aega ja kulusid\, sest tead täpselt\, millised peavad välja nägema sinu ettevõtte tooted või teenused\, milliseid sõnastusi kasutades neid turundada ja kuidas müük edukalt tööle panna. \nLood endale isikliku brändiassistendi\, kes aitab sul luua enda ettevõtte positsioonile sobivad materjalid. \nTead\, kuidas eristuda ja kuidas sellega raha teha!
URL:http://dev.veebikool.ee/event/koolituspaev-eristu-selge-brandiga/
ATTACH;FMTTYPE=image/png:http://dev.veebikool.ee/wp-content/uploads/2024/11/16.12.24-Helena-Maripuu-REKLAAM.png
ORGANIZER;CN="Veebikool":MAILTO:info@veebikool.ee
END:VEVENT
BEGIN:VEVENT
DTSTART;TZID=Europe/Tallinn:20241213T100000
DTEND;TZID=Europe/Tallinn:20241213T103000
DTSTAMP:20260419T200218
CREATED:20241210T020018Z
LAST-MODIFIED:20241210T020018Z
UID:10000334-1734084000-1734085800@dev.veebikool.ee
SUMMARY:?REEDENE ÕPIAMPS: Kuidas teha külma kõne? Priit Pähklamägi
DESCRIPTION:
URL:http://dev.veebikool.ee/event/%f0%9f%a6%8areedene-opiamps-kuidas-teha-kulma-kone-priit-pahklamagi/
LOCATION:? Facebook live
CATEGORIES:Veebiseminar
ATTACH;FMTTYPE=image/png:http://dev.veebikool.ee/wp-content/uploads/2024/11/29.11-Laura-Kassin.png
ORGANIZER;CN="Veebikool":MAILTO:info@veebikool.ee
END:VEVENT
BEGIN:VEVENT
DTSTART;TZID=Europe/Tallinn:20241209T093000
DTEND;TZID=Europe/Tallinn:20241209T133000
DTSTAMP:20260419T200218
CREATED:20241124T042445Z
LAST-MODIFIED:20241124T042445Z
UID:10000327-1733736600-1733751000@dev.veebikool.ee
SUMMARY:Koolituspäev:  Ettevõtte finantsid kontrolli alla
DESCRIPTION:Oled ettevõtja\, kuid pole veel päris kindel\, kuidas finantsid ja raamatupidamine õigesti toimima saada? \nKoolituse käigus räägime läbi olulised teemad\, mis aitavad sul oma ettevõtte rahavoogudest ja kohustustest paremini aru saada. \nLisaks aitame sul luua personaalse AI assistendi\, kes on nagu tarkmees taskus – vastab sinu küsimustele ja aitab teha finantsotsuseid.
URL:http://dev.veebikool.ee/event/koolituspaev-ettevotte-finantsid-kontrolli-alla-2/
ATTACH;FMTTYPE=image/png:http://dev.veebikool.ee/wp-content/uploads/2024/10/9.12.24-Krista-Teearu-REKLAAM-.png
ORGANIZER;CN="Veebikool":MAILTO:info@veebikool.ee
END:VEVENT
BEGIN:VEVENT
DTSTART;TZID=Europe/Tallinn:20241206T100000
DTEND;TZID=Europe/Tallinn:20241206T103000
DTSTAMP:20260419T200218
CREATED:20241203T101332Z
LAST-MODIFIED:20241203T101724Z
UID:10000333-1733479200-1733481000@dev.veebikool.ee
SUMMARY:?REEDENE ÕPIAMPS: Milliseid tervisekulusid saab ettevõttesse panna? Krista Teearu
DESCRIPTION:
URL:http://dev.veebikool.ee/event/%f0%9f%a6%8areedene-opiamps-milliseid-tervisekulusid-saab-ettevottesse-panna-krista-teearu/
LOCATION:? Facebook live
CATEGORIES:Veebiseminar
ATTACH;FMTTYPE=image/png:http://dev.veebikool.ee/wp-content/uploads/2024/11/29.11-Laura-Kassin.png
ORGANIZER;CN="Veebikool":MAILTO:info@veebikool.ee
END:VEVENT
BEGIN:VEVENT
DTSTART;TZID=Europe/Tallinn:20241202T093000
DTEND;TZID=Europe/Tallinn:20241202T133000
DTSTAMP:20260419T200218
CREATED:20241124T041610Z
LAST-MODIFIED:20241129T082044Z
UID:10000324-1733131800-1733146200@dev.veebikool.ee
SUMMARY:Koolituspäev:  Jää seltskonnaüritustel silma
DESCRIPTION:Jõulude ja aastavahetuse pidustused on silmapiiril – kas oled valmis seltskonnas särama? \nSellel koolituspäeval õpid\, kuidas ennast tutvustades tekitada huvi oma tegevuste vastu viisil\, mis paneb vestluskaaslased sinu ümber koonduma ja juurde küsima. \nLood endale isikliku AI abilise\, keda kasutada oluliste sündmuste eel enda soojendamiseks ja treenimiseks.
URL:http://dev.veebikool.ee/event/koolituspaev-jaa-seltskonnauritustel-silma/
ATTACH;FMTTYPE=image/png:http://dev.veebikool.ee/wp-content/uploads/2024/11/2.12.24-Anu-Tahemaa-REKLAAM.png
ORGANIZER;CN="Veebikool":MAILTO:info@veebikool.ee
END:VEVENT
BEGIN:VEVENT
DTSTART;TZID=Europe/Tallinn:20241129T100000
DTEND;TZID=Europe/Tallinn:20241129T103000
DTSTAMP:20260419T200218
CREATED:20241124T083440Z
LAST-MODIFIED:20241124T083440Z
UID:10000332-1732874400-1732876200@dev.veebikool.ee
SUMMARY:?REEDENE ÕPIAMPS: Kuidas edukalt networkida? - Laura Kassin
DESCRIPTION:
URL:http://dev.veebikool.ee/event/%f0%9f%a6%8areedene-opiamps-kuidas-edukalt-networkida-laura-kassin/
LOCATION:? Facebook live
CATEGORIES:Veebiseminar
ATTACH;FMTTYPE=image/png:http://dev.veebikool.ee/wp-content/uploads/2024/11/29.11-Laura-Kassin.png
ORGANIZER;CN="Veebikool":MAILTO:info@veebikool.ee
END:VEVENT
BEGIN:VEVENT
DTSTART;TZID=Europe/Tallinn:20241125T093000
DTEND;TZID=Europe/Tallinn:20241125T133000
DTSTAMP:20260419T200218
CREATED:20241120T142152Z
LAST-MODIFIED:20241120T142319Z
UID:10000323-1732527000-1732541400@dev.veebikool.ee
SUMMARY:Koolituspäev: Sotsiaalmeedia AI tööriistadega
DESCRIPTION:Kas soovid\, et sinu sotsiaalmeedia turundus võtaks vähem aega? Samas ei taha sa kaotada jälgijaid – vastupidi soovid nende arvu kasvatada. \nSellel koolituspäeval tutvustame sulle parimaid AI tööriistu\, mis muudavad sotsiaalmeedia sisuloome\, ajastamise ja optimeerimise palju lihtsamaks ja tulemuslikumaks.
URL:http://dev.veebikool.ee/event/koolituspaev-sotsiaalmeedia-ai-tooriistadega/
ATTACH;FMTTYPE=image/png:http://dev.veebikool.ee/wp-content/uploads/2024/10/25.11.24-Piret-Ilver-REKLAAM.png
ORGANIZER;CN="Veebikool":MAILTO:info@veebikool.ee
END:VEVENT
END:VCALENDAR