BEGIN:VCALENDAR
VERSION:2.0
PRODID:-//DEV SITE - Veebikool - ECPv6.13.2.1//NONSGML v1.0//EN
CALSCALE:GREGORIAN
METHOD:PUBLISH
X-WR-CALNAME:DEV SITE - Veebikool
X-ORIGINAL-URL:http://dev.veebikool.ee
X-WR-CALDESC:Events for DEV SITE - Veebikool
REFRESH-INTERVAL;VALUE=DURATION:PT1H
X-Robots-Tag:noindex
X-PUBLISHED-TTL:PT1H
BEGIN:VTIMEZONE
TZID:Europe/Tallinn
BEGIN:DAYLIGHT
TZOFFSETFROM:+0200
TZOFFSETTO:+0300
TZNAME:EEST
DTSTART:20240331T010000
END:DAYLIGHT
BEGIN:STANDARD
TZOFFSETFROM:+0300
TZOFFSETTO:+0200
TZNAME:EET
DTSTART:20241027T010000
END:STANDARD
END:VTIMEZONE
BEGIN:VEVENT
DTSTART;TZID=Europe/Tallinn:20241209T093000
DTEND;TZID=Europe/Tallinn:20241209T133000
DTSTAMP:20260419T233129
CREATED:20241124T042445Z
LAST-MODIFIED:20241124T042445Z
UID:10000327-1733736600-1733751000@dev.veebikool.ee
SUMMARY:Koolituspäev:  Ettevõtte finantsid kontrolli alla
DESCRIPTION:Oled ettevõtja\, kuid pole veel päris kindel\, kuidas finantsid ja raamatupidamine õigesti toimima saada? \nKoolituse käigus räägime läbi olulised teemad\, mis aitavad sul oma ettevõtte rahavoogudest ja kohustustest paremini aru saada. \nLisaks aitame sul luua personaalse AI assistendi\, kes on nagu tarkmees taskus – vastab sinu küsimustele ja aitab teha finantsotsuseid.
URL:http://dev.veebikool.ee/event/koolituspaev-ettevotte-finantsid-kontrolli-alla-2/
ATTACH;FMTTYPE=image/png:http://dev.veebikool.ee/wp-content/uploads/2024/10/9.12.24-Krista-Teearu-REKLAAM-.png
ORGANIZER;CN="Veebikool":MAILTO:info@veebikool.ee
END:VEVENT
BEGIN:VEVENT
DTSTART;TZID=Europe/Tallinn:20241206T100000
DTEND;TZID=Europe/Tallinn:20241206T103000
DTSTAMP:20260419T233129
CREATED:20241203T101332Z
LAST-MODIFIED:20241203T101724Z
UID:10000333-1733479200-1733481000@dev.veebikool.ee
SUMMARY:?REEDENE ÕPIAMPS: Milliseid tervisekulusid saab ettevõttesse panna? Krista Teearu
DESCRIPTION:
URL:http://dev.veebikool.ee/event/%f0%9f%a6%8areedene-opiamps-milliseid-tervisekulusid-saab-ettevottesse-panna-krista-teearu/
LOCATION:? Facebook live
CATEGORIES:Veebiseminar
ATTACH;FMTTYPE=image/png:http://dev.veebikool.ee/wp-content/uploads/2024/11/29.11-Laura-Kassin.png
ORGANIZER;CN="Veebikool":MAILTO:info@veebikool.ee
END:VEVENT
BEGIN:VEVENT
DTSTART;TZID=Europe/Tallinn:20241202T093000
DTEND;TZID=Europe/Tallinn:20241202T133000
DTSTAMP:20260419T233129
CREATED:20241124T041610Z
LAST-MODIFIED:20241129T082044Z
UID:10000324-1733131800-1733146200@dev.veebikool.ee
SUMMARY:Koolituspäev:  Jää seltskonnaüritustel silma
DESCRIPTION:Jõulude ja aastavahetuse pidustused on silmapiiril – kas oled valmis seltskonnas särama? \nSellel koolituspäeval õpid\, kuidas ennast tutvustades tekitada huvi oma tegevuste vastu viisil\, mis paneb vestluskaaslased sinu ümber koonduma ja juurde küsima. \nLood endale isikliku AI abilise\, keda kasutada oluliste sündmuste eel enda soojendamiseks ja treenimiseks.
URL:http://dev.veebikool.ee/event/koolituspaev-jaa-seltskonnauritustel-silma/
ATTACH;FMTTYPE=image/png:http://dev.veebikool.ee/wp-content/uploads/2024/11/2.12.24-Anu-Tahemaa-REKLAAM.png
ORGANIZER;CN="Veebikool":MAILTO:info@veebikool.ee
END:VEVENT
BEGIN:VEVENT
DTSTART;TZID=Europe/Tallinn:20241129T100000
DTEND;TZID=Europe/Tallinn:20241129T103000
DTSTAMP:20260419T233129
CREATED:20241124T083440Z
LAST-MODIFIED:20241124T083440Z
UID:10000332-1732874400-1732876200@dev.veebikool.ee
SUMMARY:?REEDENE ÕPIAMPS: Kuidas edukalt networkida? - Laura Kassin
DESCRIPTION:
URL:http://dev.veebikool.ee/event/%f0%9f%a6%8areedene-opiamps-kuidas-edukalt-networkida-laura-kassin/
LOCATION:? Facebook live
CATEGORIES:Veebiseminar
ATTACH;FMTTYPE=image/png:http://dev.veebikool.ee/wp-content/uploads/2024/11/29.11-Laura-Kassin.png
ORGANIZER;CN="Veebikool":MAILTO:info@veebikool.ee
END:VEVENT
BEGIN:VEVENT
DTSTART;TZID=Europe/Tallinn:20241125T093000
DTEND;TZID=Europe/Tallinn:20241125T133000
DTSTAMP:20260419T233129
CREATED:20241120T142152Z
LAST-MODIFIED:20241120T142319Z
UID:10000323-1732527000-1732541400@dev.veebikool.ee
SUMMARY:Koolituspäev: Sotsiaalmeedia AI tööriistadega
DESCRIPTION:Kas soovid\, et sinu sotsiaalmeedia turundus võtaks vähem aega? Samas ei taha sa kaotada jälgijaid – vastupidi soovid nende arvu kasvatada. \nSellel koolituspäeval tutvustame sulle parimaid AI tööriistu\, mis muudavad sotsiaalmeedia sisuloome\, ajastamise ja optimeerimise palju lihtsamaks ja tulemuslikumaks.
URL:http://dev.veebikool.ee/event/koolituspaev-sotsiaalmeedia-ai-tooriistadega/
ATTACH;FMTTYPE=image/png:http://dev.veebikool.ee/wp-content/uploads/2024/10/25.11.24-Piret-Ilver-REKLAAM.png
ORGANIZER;CN="Veebikool":MAILTO:info@veebikool.ee
END:VEVENT
END:VCALENDAR